BEGIN:VCALENDAR
VERSION:2.0
PRODID:-//hacksw/handcal//NONSGML v1.0//EN
CALSCALE:GREGORIAN
BEGIN:VEVENT
SUMMARY:Second Meeting of EPC&#8217\;s EU Governance Forum
DESCRIPTION:
DTSTART:20080127T220000Z
DTEND:20211126T220000Z
LOCATION:Brussels
URL;VALUE=URI:https://www.eliamep.gr/en/event/second-meeting-of-epcs-eu-governance-forum/
DTSTAMP:20211127T094910Z
UID:61a1ff16750a9
END:VEVENT
END:VCALENDAR