BEGIN:VCALENDAR
VERSION:2.0
PRODID:-//hacksw/handcal//NONSGML v1.0//EN
CALSCALE:GREGORIAN
BEGIN:VEVENT
SUMMARY:&#8220\;Ρegulation\, co-regulation\, self-regulation and the social responsibility of audiovisual media&#8221\;
DESCRIPTION:
DTSTART:20110619T210000Z
DTEND:20110619T210000Z
LOCATION:Barcelona
URL;VALUE=URI:https://www.eliamep.gr/en/event/regulation-co-regulation-self-regulation-and-the-social-responsibility-of-audiovisual-media/
DTSTAMP:20211127T083137Z
UID:61a1ece924007
END:VEVENT
END:VCALENDAR