BEGIN:VCALENDAR
VERSION:2.0
PRODID:-//hacksw/handcal//NONSGML v1.0//EN
CALSCALE:GREGORIAN
BEGIN:VEVENT
SUMMARY:Quo Vadis Russia?
DESCRIPTION:
DTSTART:20050417T210000Z
DTEND:20050417T210000Z
LOCATION:Athens\, Greece
URL;VALUE=URI:https://www.eliamep.gr/en/event/quo-vadis-russia/
DTSTAMP:20211127T090940Z
UID:61a1f5d46e816
END:VEVENT
END:VCALENDAR