BEGIN:VCALENDAR
VERSION:2.0
PRODID:-//hacksw/handcal//NONSGML v1.0//EN
CALSCALE:GREGORIAN
BEGIN:VEVENT
SUMMARY:Presentation: Comparative Corruption Research and the Case of Britain
DESCRIPTION:
DTSTART:20100713T210000Z
DTEND:20100713T210000Z
LOCATION:University of Leicester\,UK
URL;VALUE=URI:https://www.eliamep.gr/en/event/presentation-comparative-corruption-research-and-the-case-of-britain/
DTSTAMP:20211127T092554Z
UID:61a1f9a2b78d9
END:VEVENT
END:VCALENDAR