BEGIN:VCALENDAR
VERSION:2.0
PRODID:-//hacksw/handcal//NONSGML v1.0//EN
CALSCALE:GREGORIAN
BEGIN:VEVENT
SUMMARY:Event: “Is Europe Selling?”\, 03/22/2006
DESCRIPTION:
DTSTART:20060321T220000Z
DTEND:20060321T220000Z
LOCATION:
URL;VALUE=URI:https://www.eliamep.gr/en/event/poulai-i-evropi-2/
DTSTAMP:20211127T094828Z
UID:61a1feecca238
END:VEVENT
END:VCALENDAR