BEGIN:VCALENDAR
VERSION:2.0
PRODID:-//hacksw/handcal//NONSGML v1.0//EN
CALSCALE:GREGORIAN
BEGIN:VEVENT
SUMMARY:Policy Paper Presentation &#8211\; Higher Education in Greece
DESCRIPTION:
DTSTART:20061107T220000Z
DTEND:20061107T220000Z
LOCATION:
URL;VALUE=URI:https://www.eliamep.gr/en/event/policy-paper-presentation-higher-education-in-greece/
DTSTAMP:20211127T075706Z
UID:61a1e4d2d5871
END:VEVENT
END:VCALENDAR