BEGIN:VCALENDAR
VERSION:2.0
PRODID:-//hacksw/handcal//NONSGML v1.0//EN
CALSCALE:GREGORIAN
BEGIN:VEVENT
SUMMARY:Petroleum at the Aegean Sea
DESCRIPTION:
DTSTART:20050301T220000Z
DTEND:20050301T220000Z
LOCATION:Offices of Mr. Evangelos Couloumbis (former Minister)
URL;VALUE=URI:https://www.eliamep.gr/en/event/petroleum-at-the-aegean-sea/
DTSTAMP:20211127T090937Z
UID:61a1f5d1a0552
END:VEVENT
END:VCALENDAR