BEGIN:VCALENDAR
VERSION:2.0
PRODID:-//hacksw/handcal//NONSGML v1.0//EN
CALSCALE:GREGORIAN
BEGIN:VEVENT
SUMMARY:Perceptions regarding Organised Crime in SEE: Is there an Information Gap?
DESCRIPTION:
DTSTART:20030524T150000Z
DTEND:20030525T210000Z
LOCATION:Divani Apollon Palace & Thalasso (Aristotelis Congress Hall 4)
10 Agiou Nicolaou (Iliou) Str. 
Vouliagmeni\, Athens
166 71 Greece
URL;VALUE=URI:https://www.eliamep.gr/en/event/perceptions-regarding-organised-crime-in-see-is-there-an-information-gap/
DTSTAMP:20211127T090922Z
UID:61a1f5c22ccf4
END:VEVENT
END:VCALENDAR