BEGIN:VCALENDAR
VERSION:2.0
PRODID:-//hacksw/handcal//NONSGML v1.0//EN
CALSCALE:GREGORIAN
BEGIN:VEVENT
SUMMARY:Paolo Graziano &#8211\; Europeanization: redefining the research agenda
DESCRIPTION:
DTSTART:20080225T220000Z
DTEND:20211126T220000Z
LOCATION:
URL;VALUE=URI:https://www.eliamep.gr/en/event/paolo-graziano-europeanization-redefining-the-research-agenda/
DTSTAMP:20211127T094803Z
UID:61a1fed31d052
END:VEVENT
END:VCALENDAR