BEGIN:VCALENDAR
VERSION:2.0
PRODID:-//hacksw/handcal//NONSGML v1.0//EN
CALSCALE:GREGORIAN
BEGIN:VEVENT
SUMMARY:Panel Debate at the LSE on “An EU Fit for Purpose in the Global Age”
DESCRIPTION:
DTSTART:20090308T220000Z
DTEND:20090308T220000Z
LOCATION:London School of Economics\, UK
URL;VALUE=URI:https://www.eliamep.gr/en/event/panel-debate-at-the-lse-on-%e2%80%9can-eu-fit-for-purpose-in-the-global-age%e2%80%9d/
DTSTAMP:20211127T094941Z
UID:61a1ff35dddf7
END:VEVENT
END:VCALENDAR