BEGIN:VCALENDAR
VERSION:2.0
PRODID:-//hacksw/handcal//NONSGML v1.0//EN
CALSCALE:GREGORIAN
BEGIN:VEVENT
SUMMARY:Collective Volume: “Visions for Europe-College of Europe”\, 05/15/2007
DESCRIPTION:
DTSTART:20070516T210000Z
DTEND:20211126T220000Z
LOCATION:
URL;VALUE=URI:https://www.eliamep.gr/en/event/oramata-gia-tin-evropi-kollegio-tis-evropis/
DTSTAMP:20211127T092231Z
UID:61a1f8d77609a
END:VEVENT
END:VCALENDAR