BEGIN:VCALENDAR
VERSION:2.0
PRODID:-//hacksw/handcal//NONSGML v1.0//EN
CALSCALE:GREGORIAN
BEGIN:VEVENT
SUMMARY:ELIAMEP 2015 Annual Lecture\, 16/12/2015
DESCRIPTION:
DTSTART:20151215T220000Z
DTEND:20151215T220000Z
LOCATION:
URL;VALUE=URI:https://www.eliamep.gr/en/event/o-martin-wolf-%ce%bf%ce%bc%ce%b9%ce%bb%ce%b7%cf%84%ce%ae%cf%82-%cf%83%cf%84%ce%b7%ce%bd-%ce%b5%cf%84%ce%ae%cf%83%ce%b9%ce%b1-%ce%b4%ce%b9%ce%ac%ce%bb%ce%b5%ce%be%ce%b7-%cf%84%ce%bf%cf%85-%ce%b5%ce%bb/
DTSTAMP:20211127T092042Z
UID:61a1f86a1b59b
END:VEVENT
END:VCALENDAR