BEGIN:VCALENDAR
VERSION:2.0
PRODID:-//hacksw/handcal//NONSGML v1.0//EN
CALSCALE:GREGORIAN
BEGIN:VEVENT
SUMMARY:Greek delegation visited Kosovo to present ELIAMEP project
DESCRIPTION:
DTSTART:20141207T220000Z
DTEND:20141210T220000Z
LOCATION:Kosovo
URL;VALUE=URI:https://www.eliamep.gr/en/event/o-%cf%85%cf%80%cf%8c%cf%84%cf%81%ce%bf%cf%86%ce%bf%cf%82-%ce%b5%cf%81%ce%b5%cf%85%ce%bd%ce%b7%cf%84%ce%b9%ce%ba%ce%ae%cf%82-%ce%ad%ce%b4%cf%81%ce%b1%cf%82-%cf%83%cf%84%ce%b1%cf%8d%cf%81%ce%bf/
DTSTAMP:20211127T094750Z
UID:61a1fec69afcf
END:VEVENT
END:VCALENDAR