BEGIN:VCALENDAR
VERSION:2.0
PRODID:-//hacksw/handcal//NONSGML v1.0//EN
CALSCALE:GREGORIAN
BEGIN:VEVENT
SUMMARY:Millennium Development Goals
DESCRIPTION:
DTSTART:20050420T210000Z
DTEND:20050420T210000Z
LOCATION:Athens\, Greece
URL;VALUE=URI:https://www.eliamep.gr/en/event/millennium-development-goals/
DTSTAMP:20211127T090930Z
UID:61a1f5ca664cf
END:VEVENT
END:VCALENDAR