BEGIN:VCALENDAR
VERSION:2.0
PRODID:-//hacksw/handcal//NONSGML v1.0//EN
CALSCALE:GREGORIAN
BEGIN:VEVENT
SUMMARY:Migration Policy in Greece
DESCRIPTION:
DTSTART:20090921T210000Z
DTEND:20090921T210000Z
LOCATION:ELIAMEP's offices\, 49 Vassilisis Sofias Ave. \, Athens\, 10676
URL;VALUE=URI:https://www.eliamep.gr/en/event/migration-policy-in-greece/
DTSTAMP:20211127T092223Z
UID:61a1f8cf1fbe8
END:VEVENT
END:VCALENDAR