BEGIN:VCALENDAR
VERSION:2.0
PRODID:-//hacksw/handcal//NONSGML v1.0//EN
CALSCALE:GREGORIAN
BEGIN:VEVENT
SUMMARY:Meeting of the L&#8217\;Esprit de Sel Group
DESCRIPTION:
DTSTART:20071120T220000Z
DTEND:20071120T220000Z
LOCATION:Brussels\, Belgium
URL;VALUE=URI:https://www.eliamep.gr/en/event/meeting-of-the-lesprit-de-sel-group/
DTSTAMP:20211127T081049Z
UID:61a1e809acccd
END:VEVENT
END:VCALENDAR