BEGIN:VCALENDAR
VERSION:2.0
PRODID:-//hacksw/handcal//NONSGML v1.0//EN
CALSCALE:GREGORIAN
BEGIN:VEVENT
SUMMARY:Meeting of the L&#8217\;Esprit de Sel Group in Kiev
DESCRIPTION:
DTSTART:20081126T220000Z
DTEND:20081127T220000Z
LOCATION:Kiev\, Ukraine
URL;VALUE=URI:https://www.eliamep.gr/en/event/meeting-of-the-lesprit-de-sel-group-in-kiev/
DTSTAMP:20211127T094931Z
UID:61a1ff2bc176e
END:VEVENT
END:VCALENDAR