BEGIN:VCALENDAR
VERSION:2.0
PRODID:-//hacksw/handcal//NONSGML v1.0//EN
CALSCALE:GREGORIAN
BEGIN:VEVENT
SUMMARY:Mediterranean Meetings 2009: workshop on “Political parties and public policies in Southern Europe (with an emphasis on Greece and Turkey)”
DESCRIPTION:
DTSTART:20090325T080000Z
DTEND:20090327T220000Z
LOCATION:
URL;VALUE=URI:https://www.eliamep.gr/en/event/mediterranean-meetings-2009-workshop-on-%e2%80%9cpolitical-parties-and-public-policies-in-southern-europe-with-an-emphasis-on-greece-and-turkey%e2%80%9d/
DTSTAMP:20211127T094929Z
UID:61a1ff29a4a47
END:VEVENT
END:VCALENDAR