BEGIN:VCALENDAR
VERSION:2.0
PRODID:-//hacksw/handcal//NONSGML v1.0//EN
CALSCALE:GREGORIAN
BEGIN:VEVENT
SUMMARY:Kosovo: a messy denouement
DESCRIPTION:
DTSTART:20060403T210000Z
DTEND:20060403T210000Z
LOCATION:Athens\, Greece
URL;VALUE=URI:https://www.eliamep.gr/en/event/kosovo-a-messy-denouement/
DTSTAMP:20211127T092045Z
UID:61a1f86d4af40
END:VEVENT
END:VCALENDAR