BEGIN:VCALENDAR
VERSION:2.0
PRODID:-//hacksw/handcal//NONSGML v1.0//EN
CALSCALE:GREGORIAN
BEGIN:VEVENT
SUMMARY:Janis Emmanouilidis &#8211\; Differentiated Europe: models\, consequences and conclusions
DESCRIPTION:
DTSTART:20080127T220000Z
DTEND:20211126T220000Z
LOCATION:
URL;VALUE=URI:https://www.eliamep.gr/en/event/janis-emmanouilidis-differentiated-europe-models-consequences-and-conclusions/
DTSTAMP:20211127T081032Z
UID:61a1e7f8d7f1c
END:VEVENT
END:VCALENDAR