BEGIN:VCALENDAR
VERSION:2.0
PRODID:-//hacksw/handcal//NONSGML v1.0//EN
CALSCALE:GREGORIAN
BEGIN:VEVENT
SUMMARY:International conference on ‘New television screens\, new regulation’
DESCRIPTION:
DTSTART:20120704T210000Z
DTEND:20120705T210000Z
LOCATION:Palais des Académies\, in Brussels\, Belgium
URL;VALUE=URI:https://www.eliamep.gr/en/event/international-conference-on-new-television-screens-new-regulation/
DTSTAMP:20211127T083124Z
UID:61a1ecdcdc34a
END:VEVENT
END:VCALENDAR