BEGIN:VCALENDAR
VERSION:2.0
PRODID:-//hacksw/handcal//NONSGML v1.0//EN
CALSCALE:GREGORIAN
BEGIN:VEVENT
SUMMARY:Information Campaign for the European Constitution
DESCRIPTION:
DTSTART:20041231T220000Z
DTEND:20050629T210000Z
LOCATION:Zappeion Hall\, Athens
URL;VALUE=URI:https://www.eliamep.gr/en/event/information-campaign-for-the-european-constitution/
DTSTAMP:20211127T081006Z
UID:61a1e7ded88d7
END:VEVENT
END:VCALENDAR