BEGIN:VCALENDAR
VERSION:2.0
PRODID:-//hacksw/handcal//NONSGML v1.0//EN
CALSCALE:GREGORIAN
BEGIN:VEVENT
SUMMARY:Implications of the victory of Hamas in the Palestinian elections
DESCRIPTION:
DTSTART:20060202T220000Z
DTEND:20060202T220000Z
LOCATION:Athens\, Greece
URL;VALUE=URI:https://www.eliamep.gr/en/event/implications-of-the-victory-of-hamas-in-the-palestinian-elections/
DTSTAMP:20211127T092056Z
UID:61a1f87896deb
END:VEVENT
END:VCALENDAR