BEGIN:VCALENDAR
VERSION:2.0
PRODID:-//hacksw/handcal//NONSGML v1.0//EN
CALSCALE:GREGORIAN
BEGIN:VEVENT
SUMMARY:The Future of the European Constitution
DESCRIPTION:
DTSTART:20070311T220000Z
DTEND:20070311T220000Z
LOCATION:Athens\, Greece
URL;VALUE=URI:https://www.eliamep.gr/en/event/i-tichi-tou-evropaikou-sintagmatos-3/
DTSTAMP:20211127T080933Z
UID:61a1e7bd935bf
END:VEVENT
END:VCALENDAR