BEGIN:VCALENDAR
VERSION:2.0
PRODID:-//hacksw/handcal//NONSGML v1.0//EN
CALSCALE:GREGORIAN
BEGIN:VEVENT
SUMMARY:Hydra Seminar: An interdisciplinary\, cross party investigation of policy options for the EU
DESCRIPTION:
DTSTART:20081016T210000Z
DTEND:20081017T210000Z
LOCATION:Island Hydra\, Greece
URL;VALUE=URI:https://www.eliamep.gr/en/event/hydra-seminar-an-interdisciplinary-cross-party-investigation-of-policy-options-for-the-eu/
DTSTAMP:20211127T094946Z
UID:61a1ff3ad1665
END:VEVENT
END:VCALENDAR