BEGIN:VCALENDAR
VERSION:2.0
PRODID:-//hacksw/handcal//NONSGML v1.0//EN
CALSCALE:GREGORIAN
BEGIN:VEVENT
SUMMARY:Conference: «EaP: Looking beyond the 2017 Summit»
DESCRIPTION:
DTSTART:20171108T070000Z
DTEND:20171108T120000Z
LOCATION:Offices of the European Commission Representation in Greece 
2\, Vas. Sofias Avenue\, 106 74\, Athens
URL;VALUE=URI:https://www.eliamep.gr/en/event/h%ce%bc%ce%b5%cf%81%ce%af%ce%b4%ce%b1-eap-looking-beyond-the-2017-summit-08-11-2017/
DTSTAMP:20211127T095012Z
UID:61a1ff54bc3a3
END:VEVENT
END:VCALENDAR