BEGIN:VCALENDAR
VERSION:2.0
PRODID:-//hacksw/handcal//NONSGML v1.0//EN
CALSCALE:GREGORIAN
BEGIN:VEVENT
SUMMARY:Growth and competitiveness in Europe: A case for a strong cohesion policy
DESCRIPTION:
DTSTART:20070328T210000Z
DTEND:20070328T210000Z
LOCATION:Athens\, Greece
URL;VALUE=URI:https://www.eliamep.gr/en/event/growth-and-competitiveness-in-europe-a-case-for-a-strong-cohesion-policy/
DTSTAMP:20211127T094830Z
UID:61a1feeeb6527
END:VEVENT
END:VCALENDAR