BEGIN:VCALENDAR
VERSION:2.0
PRODID:-//hacksw/handcal//NONSGML v1.0//EN
CALSCALE:GREGORIAN
BEGIN:VEVENT
SUMMARY:Greece&#8217\;s relations with the Former Yugoslav Republic of Macedonia
DESCRIPTION:
DTSTART:20051208T103000Z
DTEND:20051207T220000Z
LOCATION:National Hellenic Research Foundation
48 Vas. Konstantinou Ave.
116 35 Athens
Greece
URL;VALUE=URI:https://www.eliamep.gr/en/event/greeces-relations-with-the-former-yugoslav-republic-of-macedonia/
DTSTAMP:20211127T075709Z
UID:61a1e4d54a5cc
END:VEVENT
END:VCALENDAR