BEGIN:VCALENDAR
VERSION:2.0
PRODID:-//hacksw/handcal//NONSGML v1.0//EN
CALSCALE:GREGORIAN
BEGIN:VEVENT
SUMMARY:Greece-Turkey and the European Union
DESCRIPTION:
DTSTART:20060904T210000Z
DTEND:20060904T210000Z
LOCATION:Athens\, Greece
URL;VALUE=URI:https://www.eliamep.gr/en/event/greece-turkey-and-the-european-union/
DTSTAMP:20211127T094832Z
UID:61a1fef08b489
END:VEVENT
END:VCALENDAR