BEGIN:VCALENDAR
VERSION:2.0
PRODID:-//hacksw/handcal//NONSGML v1.0//EN
CALSCALE:GREGORIAN
BEGIN:VEVENT
SUMMARY:«Government and the internet»
DESCRIPTION:
DTSTART:20110307T220000Z
DTEND:20110308T220000Z
LOCATION:Florence
URL;VALUE=URI:https://www.eliamep.gr/en/event/government-and-the-internet/
DTSTAMP:20211127T083118Z
UID:61a1ecd60fefe
END:VEVENT
END:VCALENDAR