BEGIN:VCALENDAR
VERSION:2.0
PRODID:-//hacksw/handcal//NONSGML v1.0//EN
CALSCALE:GREGORIAN
BEGIN:VEVENT
SUMMARY:Globalisation: The challenges and opportunities\; the role of Pakistan
DESCRIPTION:
DTSTART:20060515T153000Z
DTEND:20060514T210000Z
LOCATION:Hotel Grande Bretagne\, Golden Room
1 Vasileos Georgiou A’ str.\, Syntagma Square\, 
Athens\, 105 64\, Greece
URL;VALUE=URI:https://www.eliamep.gr/en/event/globalisation-the-challenges-and-opportunities-the-role-of-pakistan/
DTSTAMP:20211127T092046Z
UID:61a1f86ef325c
END:VEVENT
END:VCALENDAR