BEGIN:VCALENDAR
VERSION:2.0
PRODID:-//hacksw/handcal//NONSGML v1.0//EN
CALSCALE:GREGORIAN
BEGIN:VEVENT
SUMMARY:Globalisation\, Europe and Greece
DESCRIPTION:
DTSTART:20081217T220000Z
DTEND:20081217T220000Z
LOCATION:
URL;VALUE=URI:https://www.eliamep.gr/en/event/globalisation-europe-and-greece/
DTSTAMP:20211127T094928Z
UID:61a1ff282f46a
END:VEVENT
END:VCALENDAR