BEGIN:VCALENDAR
VERSION:2.0
PRODID:-//hacksw/handcal//NONSGML v1.0//EN
CALSCALE:GREGORIAN
BEGIN:VEVENT
SUMMARY:Globalisation and reform
DESCRIPTION:
DTSTART:20060625T210000Z
DTEND:20060625T210000Z
LOCATION:Athens\, Greece
URL;VALUE=URI:https://www.eliamep.gr/en/event/globalisation-and-reform/
DTSTAMP:20211127T092056Z
UID:61a1f87830125
END:VEVENT
END:VCALENDAR