BEGIN:VCALENDAR
VERSION:2.0
PRODID:-//hacksw/handcal//NONSGML v1.0//EN
CALSCALE:GREGORIAN
BEGIN:VEVENT
SUMMARY:Giving Globalisation a European Face – Report of the L&#8217\;Esprit de Sel Group
DESCRIPTION:
DTSTART:20080513T210000Z
DTEND:20080513T210000Z
LOCATION:
URL;VALUE=URI:https://www.eliamep.gr/en/event/giving-globalisation-a-european-face-%e2%80%93-report-of-the-lesprit-de-sel-group/
DTSTAMP:20211127T094813Z
UID:61a1feddbbb12
END:VEVENT
END:VCALENDAR