BEGIN:VCALENDAR
VERSION:2.0
PRODID:-//hacksw/handcal//NONSGML v1.0//EN
CALSCALE:GREGORIAN
BEGIN:VEVENT
SUMMARY:Generating Georgia&#8217\;s Input for Eastern Partnership
DESCRIPTION:
DTSTART:20090318T220000Z
DTEND:20090318T220000Z
LOCATION:Tbilisi\, Georgia
URL;VALUE=URI:https://www.eliamep.gr/en/event/generating-georgias-input-for-eastern-partnership/
DTSTAMP:20211127T094922Z
UID:61a1ff22681ec
END:VEVENT
END:VCALENDAR