BEGIN:VCALENDAR
VERSION:2.0
PRODID:-//hacksw/handcal//NONSGML v1.0//EN
CALSCALE:GREGORIAN
BEGIN:VEVENT
SUMMARY:Foreign policy challenges for the European Union
DESCRIPTION:
DTSTART:20070517T210000Z
DTEND:20070517T210000Z
LOCATION:
URL;VALUE=URI:https://www.eliamep.gr/en/event/foreign-policy-challenges-for-the-european-union/
DTSTAMP:20211127T081027Z
UID:61a1e7f390e56
END:VEVENT
END:VCALENDAR