BEGIN:VCALENDAR
VERSION:2.0
PRODID:-//hacksw/handcal//NONSGML v1.0//EN
CALSCALE:GREGORIAN
BEGIN:VEVENT
SUMMARY:First Meeting of US-European Working Group on Security and Defence
DESCRIPTION:
DTSTART:20080120T220000Z
DTEND:20080121T220000Z
LOCATION:Brussels
URL;VALUE=URI:https://www.eliamep.gr/en/event/first-meeting-of-us-european-working-group-on-security-and-defence/
DTSTAMP:20211127T081103Z
UID:61a1e817d9d3a
END:VEVENT
END:VCALENDAR