BEGIN:VCALENDAR
VERSION:2.0
PRODID:-//hacksw/handcal//NONSGML v1.0//EN
CALSCALE:GREGORIAN
BEGIN:VEVENT
SUMMARY:Final Conference of the Juristras project: The European Court of Human Rights in the National\, Legal and Political Order
DESCRIPTION:
DTSTART:20090618T063000Z
DTEND:20090618T140000Z
LOCATION:Council of Europe\, building AGORA (room G01)\, Strasbourg
URL;VALUE=URI:https://www.eliamep.gr/en/event/final-conference-of-the-juristras-project-the-european-court-of-human-rights-in-the-national-legal-and-political-order/
DTSTAMP:20211127T083050Z
UID:61a1ecba3ed0f
END:VEVENT
END:VCALENDAR