BEGIN:VCALENDAR
VERSION:2.0
PRODID:-//hacksw/handcal//NONSGML v1.0//EN
CALSCALE:GREGORIAN
BEGIN:VEVENT
SUMMARY:EUROREG &#8211\; Project Events
DESCRIPTION:
DTSTART:20041117T220000Z
DTEND:20070425T210000Z
LOCATION:
URL;VALUE=URI:https://www.eliamep.gr/en/event/euroreg-project-events/
DTSTAMP:20211127T081013Z
UID:61a1e7e597059
END:VEVENT
END:VCALENDAR