BEGIN:VCALENDAR
VERSION:2.0
PRODID:-//hacksw/handcal//NONSGML v1.0//EN
CALSCALE:GREGORIAN
BEGIN:VEVENT
SUMMARY:EUROREG &#8211\; Policy Conferences
DESCRIPTION:
DTSTART:20060925T210000Z
DTEND:20070621T210000Z
LOCATION:
URL;VALUE=URI:https://www.eliamep.gr/en/event/euroreg-policy-conferences/
DTSTAMP:20211127T094825Z
UID:61a1fee9964c7
END:VEVENT
END:VCALENDAR