BEGIN:VCALENDAR
VERSION:2.0
PRODID:-//hacksw/handcal//NONSGML v1.0//EN
CALSCALE:GREGORIAN
BEGIN:VEVENT
SUMMARY:Europe&#8217\;s next transformation: Enlargement and the future of the EU
DESCRIPTION:
DTSTART:20061019T210000Z
DTEND:20061019T210000Z
LOCATION:Athens\, Greece
URL;VALUE=URI:https://www.eliamep.gr/en/event/europes-next-transformation-enlargement-and-the-future-of-the-eu/
DTSTAMP:20211127T080939Z
UID:61a1e7c3f1288
END:VEVENT
END:VCALENDAR