BEGIN:VCALENDAR
VERSION:2.0
PRODID:-//hacksw/handcal//NONSGML v1.0//EN
CALSCALE:GREGORIAN
BEGIN:VEVENT
SUMMARY:Εξευρωπαϊσμός: Νέες ερευνητικές κατευνθύνσεις
DESCRIPTION:
DTSTART:20080207T220000Z
DTEND:20211126T220000Z
LOCATION:
URL;VALUE=URI:https://www.eliamep.gr/en/event/europeanisation-new-research-agendas/
DTSTAMP:20211127T094810Z
UID:61a1fedaeb37e
END:VEVENT
END:VCALENDAR