BEGIN:VCALENDAR
VERSION:2.0
PRODID:-//hacksw/handcal//NONSGML v1.0//EN
CALSCALE:GREGORIAN
BEGIN:VEVENT
SUMMARY:Europeanisation: New Research Agendas
DESCRIPTION:
DTSTART:20080208T100000Z
DTEND:20080207T220000Z
LOCATION:ELIAMEP offices\, 49 Vas. Sofias Ave.\, 10676 Athens
URL;VALUE=URI:https://www.eliamep.gr/en/event/europeanisation-new-research-agendas-2/
DTSTAMP:20211127T094817Z
UID:61a1fee1a2283
END:VEVENT
END:VCALENDAR