BEGIN:VCALENDAR
VERSION:2.0
PRODID:-//hacksw/handcal//NONSGML v1.0//EN
CALSCALE:GREGORIAN
BEGIN:VEVENT
SUMMARY:European Security in a Global Environment
DESCRIPTION:
DTSTART:20090211T220000Z
DTEND:20090211T220000Z
LOCATION:European Parliament Offices in Athens
URL;VALUE=URI:https://www.eliamep.gr/en/event/european-security-in-a-global-environment/
DTSTAMP:20211127T094934Z
UID:61a1ff2e222ed
END:VEVENT
END:VCALENDAR