BEGIN:VCALENDAR
VERSION:2.0
PRODID:-//hacksw/handcal//NONSGML v1.0//EN
CALSCALE:GREGORIAN
BEGIN:VEVENT
SUMMARY:European Briefing Book on Security and Defence
DESCRIPTION:
DTSTART:20090303T220000Z
DTEND:20090303T220000Z
LOCATION:
URL;VALUE=URI:https://www.eliamep.gr/en/event/european-briefing-book-on-security-and-defence/
DTSTAMP:20211127T094931Z
UID:61a1ff2b7415c
END:VEVENT
END:VCALENDAR