BEGIN:VCALENDAR
VERSION:2.0
PRODID:-//hacksw/handcal//NONSGML v1.0//EN
CALSCALE:GREGORIAN
BEGIN:VEVENT
SUMMARY:Public Debate: &#8216\;Europe\, it&#8217\;s me: State of play on rights and political participation&#8217\;\, 20/02/2012
DESCRIPTION:
DTSTART:20130220T110000Z
DTEND:20130220T130000Z
LOCATION:European Parliament (Altiero Spinelli\, A1E201)
URL;VALUE=URI:https://www.eliamep.gr/en/event/europe-its-me-state-of-play-on-rights-and-political-participation/
DTSTAMP:20211127T092243Z
UID:61a1f8e388d39
END:VEVENT
END:VCALENDAR