BEGIN:VCALENDAR
VERSION:2.0
PRODID:-//hacksw/handcal//NONSGML v1.0//EN
CALSCALE:GREGORIAN
BEGIN:VEVENT
SUMMARY:Europe in the globalized economy
DESCRIPTION:
DTSTART:20060525T153000Z
DTEND:20060524T210000Z
LOCATION:"I.Drakopolos" Auditorium\, University of Athens
URL;VALUE=URI:https://www.eliamep.gr/en/event/europe-in-the-globalized-economy/
DTSTAMP:20211127T094833Z
UID:61a1fef14a87b
END:VEVENT
END:VCALENDAR