BEGIN:VCALENDAR
VERSION:2.0
PRODID:-//hacksw/handcal//NONSGML v1.0//EN
CALSCALE:GREGORIAN
BEGIN:VEVENT
SUMMARY:Europe and the role of civil society
DESCRIPTION:
DTSTART:20070328T210000Z
DTEND:20070328T210000Z
LOCATION:Zappion Palace\, Athens
URL;VALUE=URI:https://www.eliamep.gr/en/event/europe-and-the-role-of-civil-society/
DTSTAMP:20211127T094921Z
UID:61a1ff2177e01
END:VEVENT
END:VCALENDAR