BEGIN:VCALENDAR
VERSION:2.0
PRODID:-//hacksw/handcal//NONSGML v1.0//EN
CALSCALE:GREGORIAN
BEGIN:VEVENT
SUMMARY:EU-Russia Relations: Developments and prospects
DESCRIPTION:
DTSTART:20060918T210000Z
DTEND:20060918T210000Z
LOCATION:Athens\, Greece
URL;VALUE=URI:https://www.eliamep.gr/en/event/eu-russia-relations-developments-and-prospects/
DTSTAMP:20211127T080942Z
UID:61a1e7c67c1ac
END:VEVENT
END:VCALENDAR