BEGIN:VCALENDAR
VERSION:2.0
PRODID:-//hacksw/handcal//NONSGML v1.0//EN
CALSCALE:GREGORIAN
BEGIN:VEVENT
SUMMARY:EU Foreign Policy – and the Quest for Leadership
DESCRIPTION:
DTSTART:20081022T210000Z
DTEND:20081023T210000Z
LOCATION:Warsaw\, Poland 
URL;VALUE=URI:https://www.eliamep.gr/en/event/eu-foreign-policy-%e2%80%93-and-the-quest-for-leadership/
DTSTAMP:20211127T094948Z
UID:61a1ff3c352b5
END:VEVENT
END:VCALENDAR